BEGIN:VCALENDAR
VERSION:2.0
PRODID:-//Shotokan Karate-Do International Ferderation USA - ECPv6.15.20//NONSGML v1.0//EN
CALSCALE:GREGORIAN
METHOD:PUBLISH
X-WR-CALNAME:Shotokan Karate-Do International Ferderation USA
X-ORIGINAL-URL:https://skifusa.org
X-WR-CALDESC:Events for Shotokan Karate-Do International Ferderation USA
REFRESH-INTERVAL;VALUE=DURATION:PT1H
X-Robots-Tag:noindex
X-PUBLISHED-TTL:PT1H
BEGIN:VTIMEZONE
TZID:UTC
BEGIN:STANDARD
TZOFFSETFROM:+0000
TZOFFSETTO:+0000
TZNAME:UTC
DTSTART:20230101T000000
END:STANDARD
END:VTIMEZONE
BEGIN:VEVENT
DTSTART;VALUE=DATE:20240824
DTEND;VALUE=DATE:20240826
DTSTAMP:20260420T132430
CREATED:20240130T221720Z
LAST-MODIFIED:20240308T193541Z
UID:208569-1724457600-1724630399@skifusa.org
SUMMARY:SKIF Cincinnati Ohio\, Seminar with Manabu Murakami\, Shuseki Shihan
DESCRIPTION:Hosted by: Doshinkai Dojo. August 24th and 25th\, 2024. For more information contact: Rubén Fung at dskdojo1@gmail.com or 832-513-0058.
URL:https://skifusa.org/event/skif-cincinnati-ohio-seminar-with-manabu-murakami-shuseki-shihan/
CATEGORIES:Seminar
ATTACH;FMTTYPE=image/jpeg:https://skifusa.org/wp-content/uploads/2024/03/Murakami_Seminar_08_2024_Cincinnati.jpg
END:VEVENT
BEGIN:VEVENT
DTSTART;VALUE=DATE:20240827
DTEND;VALUE=DATE:20240829
DTSTAMP:20260420T132430
CREATED:20240130T221805Z
LAST-MODIFIED:20240311T200836Z
UID:208571-1724716800-1724889599@skifusa.org
SUMMARY:SKIF Minnesota\, Seminar with Manabu Murakami\, Shuseki Shihan
DESCRIPTION:Hosted by: Peak Performance Shotokan Karate-Do. August 27th and 28th\, 2024. For more information contact: Chris Johnson at chrisjohnson9411@gmail.com or 612-799-8464.
URL:https://skifusa.org/event/skif-minnesota-seminar-with-manabu-murakami-shuseki-shihan/
CATEGORIES:Seminar
ATTACH;FMTTYPE=image/jpeg:https://skifusa.org/wp-content/uploads/2024/01/August_2024_Minnesota.jpg
END:VEVENT
END:VCALENDAR