BEGIN:VCALENDAR
VERSION:2.0
PRODID:-//Shotokan Karate-Do International Ferderation USA - ECPv6.15.20//NONSGML v1.0//EN
CALSCALE:GREGORIAN
METHOD:PUBLISH
X-WR-CALNAME:Shotokan Karate-Do International Ferderation USA
X-ORIGINAL-URL:https://skifusa.org
X-WR-CALDESC:Events for Shotokan Karate-Do International Ferderation USA
REFRESH-INTERVAL;VALUE=DURATION:PT1H
X-Robots-Tag:noindex
X-PUBLISHED-TTL:PT1H
BEGIN:VTIMEZONE
TZID:UTC
BEGIN:STANDARD
TZOFFSETFROM:+0000
TZOFFSETTO:+0000
TZNAME:UTC
DTSTART:20230101T000000
END:STANDARD
END:VTIMEZONE
BEGIN:VEVENT
DTSTART;VALUE=DATE:20240901
DTEND;VALUE=DATE:20240902
DTSTAMP:20260420T121520
CREATED:20240130T221847Z
LAST-MODIFIED:20240308T193518Z
UID:208573-1725148800-1725235199@skifusa.org
SUMMARY:SKIF Florida\, Seminar with Manabu Murakami\, Shuseki Shihan
DESCRIPTION:Hosted by: Shotokan Karate-Do Florida “SKF” and SKIF Samurai. September 1st\, 2024. For more information contact: Henry Barnabei at info@SKFFlorida.com or Paul Danos at pauldanos@aol.com or 954-471-9252.
URL:https://skifusa.org/event/skif-florida-seminar-with-manabu-murakami-shuseki-shihan/
CATEGORIES:Seminar
ATTACH;FMTTYPE=image/jpeg:https://skifusa.org/wp-content/uploads/2024/03/Murakami_09_01_2024_Florida.jpg
END:VEVENT
BEGIN:VEVENT
DTSTART;VALUE=DATE:20240921
DTEND;VALUE=DATE:20240922
DTSTAMP:20260420T121520
CREATED:20240812T195857Z
LAST-MODIFIED:20240812T200428Z
UID:208981-1726876800-1726963199@skifusa.org
SUMMARY:SKIF USA Zoom Event - Sept 21\, 2024
DESCRIPTION:Ryusho Suzuki\, Sensei\nZoom Class on Sept 21\, 2024\nTime: HST: 1:00 PM; PDT: 4:00 PM; MDT: 5:00 PM; CDT: 6:00 PM; EDT: 7:00 PM\nRegistration Link: https://forms.gle/guEwVXweBn4q9T6y9
URL:https://skifusa.org/event/skif-usa-zoom-event-sept-21-2024/
CATEGORIES:Seminar
ATTACH;FMTTYPE=image/jpeg:https://skifusa.org/wp-content/uploads/2024/08/Sep_21_2024_Zoom_Ryusho_suzuki.jpg
END:VEVENT
END:VCALENDAR