BEGIN:VCALENDAR
VERSION:2.0
PRODID:-//Shotokan Karate-Do International Ferderation USA - ECPv6.15.20//NONSGML v1.0//EN
CALSCALE:GREGORIAN
METHOD:PUBLISH
X-ORIGINAL-URL:https://skifusa.org
X-WR-CALDESC:Events for Shotokan Karate-Do International Ferderation USA
REFRESH-INTERVAL;VALUE=DURATION:PT1H
X-Robots-Tag:noindex
X-PUBLISHED-TTL:PT1H
BEGIN:VTIMEZONE
TZID:UTC
BEGIN:STANDARD
TZOFFSETFROM:+0000
TZOFFSETTO:+0000
TZNAME:UTC
DTSTART:20230101T000000
END:STANDARD
END:VTIMEZONE
BEGIN:VEVENT
DTSTART;VALUE=DATE:20240606
DTEND;VALUE=DATE:20240607
DTSTAMP:20260420T173520
CREATED:20240130T221527Z
LAST-MODIFIED:20240420T141227Z
UID:208565-1717632000-1717718399@skifusa.org
SUMMARY:SKIF Chicago\, Seminar with Nobuaki Kanazawa\, Kancho (June 6\, 2024)
DESCRIPTION:Hosted by: American Tiger Karate Academy. June 4th and 6th For more information contact: Pat Pusateri at patpusateri@gmail.com or 847-593-6390.
URL:https://skifusa.org/event/skif-chicago-seminar-with-nobuaki-kanazawa-kancho-june-6-2024/
CATEGORIES:Seminar
END:VEVENT
END:VCALENDAR